BEGIN:VCALENDAR
VERSION:2.0
PRODID:-//Chéries-Chéris - ECPv4.9.12//NONSGML v1.0//EN
CALSCALE:GREGORIAN
METHOD:PUBLISH
X-WR-CALNAME:Chéries-Chéris
X-ORIGINAL-URL:https://cheries-cheris.com/festival
X-WR-CALDESC:Évènements pour Chéries-Chéris
BEGIN:VTIMEZONE
TZID:Europe/Paris
BEGIN:DAYLIGHT
TZOFFSETFROM:+0100
TZOFFSETTO:+0200
TZNAME:CEST
DTSTART:20250330T010000
END:DAYLIGHT
BEGIN:STANDARD
TZOFFSETFROM:+0200
TZOFFSETTO:+0100
TZNAME:CET
DTSTART:20251026T010000
END:STANDARD
END:VTIMEZONE
BEGIN:VEVENT
DTSTART;TZID=Europe/Paris:20251122T174500
DTEND;TZID=Europe/Paris:20251122T190000
DTSTAMP:20260421T084959
CREATED:20251021T122528Z
LAST-MODIFIED:20251021T122528Z
UID:7029-1763833500-1763838000@cheries-cheris.com
SUMMARY:UNE MAISON AVEC DEUX CHIENS
DESCRIPTION:
URL:https://cheries-cheris.com/festival/seance/une-maison-avec-deux-chiens-2/
LOCATION:MK2 Beaubourg\, 50\, rue Rambuteau\, Paris\, 75003\, France
END:VEVENT
END:VCALENDAR